BEGIN:VCALENDAR
VERSION:2.0
CALSCALE:GREGORIAN
PRODID:adamgibbons/ics
METHOD:PUBLISH
X-PUBLISHED-TTL:PT1H
BEGIN:VEVENT
UID:32@www.athensdiy.net
SUMMARY:URANIUM CLUB + MR. [REDACTED] + CRYING FORM + CRUCIFLY'S + SOUR YEL
	LOW
DTSTAMP:20260422T075453Z
DTSTART:20260605T010000Z
URL:https://www.athensdiy.net/event/uranium-club-mr-redacted-crying-form-cr
	uciflys-sour-yellow
LOCATION:World Famous - 351 N HUll St Athens\, GA 30601
STATUS:CONFIRMED
CATEGORIES:Cruciflys,Crying Form,DIY,Sour Yellow,Uranium Club,hardcore punk
	,mr redacted,post punk,punk,synth punk
END:VEVENT
END:VCALENDAR
